BEGIN:VCALENDAR
METHOD:PUBLISH
VERSION:2.0
PRODID:-//hacksw/handcal//NONSGML v1.0//EN
X-WR-TIMEZONE:Australia/Hobart
CALSCALE:GREGORIAN
BEGIN:VEVENT
DTSTART;TZID=Australia/Hobart:20261031T113000
DTEND;TZID=Australia/Hobart:20261031T153000
UID:355035066069CF06A2A22857639130191065105198069CF06A2A22A230596265
DTSTAMP:20260420T122645
LOCATION:Central Highlands Lodge
DESCRIPTION:Dr John Brennan Memorial Miena Run and General Meeting starts 
 at 11:30 AM-12:15 PM - Central Highlands Lodge (7795 Highland Lakes Road, 
 Haddens Bay, Miena, Tasmania, 7030)  12:30 lunch. Optional overnight stay 
 at the lakes and Sunday tour to Waddamana for a tour of the power station 
 More info https://www.discovertasmania.com.au/things-to-do/heritage-and-hi
 story/waddamanapowerstationmuseum/ Invitation to FCCT to join.
URL;VALUE=URI:http://citroentas.org/events/view.php?id=355035066069CF06A2A
 22857639130191065105198069CF06A2A22A230596265
SUMMARY:Dr John Brennan Memorial Miena Run and General Meeting
END:VEVENT
END:VCALENDAR
